BEGIN:VCALENDAR
VERSION:2.0
PRODID:-//ChamberMaster//Event Calendar 2.0//EN
METHOD:PUBLISH
X-PUBLISHED-TTL:P3D
REFRESH-INTERVAL:P3D
CALSCALE:GREGORIAN
BEGIN:VEVENT
DTSTART:20240806T150000Z
DTEND:20240806T160000Z
X-MICROSOFT-CDO-ALLDAYEVENT:FALSE
SUMMARY:Ambassador Business Champions (ABC)
DESCRIPTION:The FME Chamber Chamber invites member business representatives to participate in the Ambassador Program. Our Ambassadors are Business Champions and our goals are to help you increase your company's visibility and your leadership skills by building our business climate.
X-ALT-DESC;FMTTYPE=text/html:The FME Chamber Chamber invites member business representatives to participate in the Ambassador Program. Our Ambassadors are Business Champions and our goals are to help you increase your company&#39\;s visibility and your leadership skills by building our business climate.
LOCATION:At the FME Chamber Office 2018 54th Avenue E Fife\, WA 98424
UID:e.1279.4470
SEQUENCE:3
DTSTAMP:20260424T202918Z
URL:https://business.fmechamber.org/events/details/ambassador-business-champions-abc-4470
END:VEVENT

END:VCALENDAR
