BEGIN:VCALENDAR
VERSION:2.0
PRODID:-//ChamberMaster//Event Calendar 2.0//EN
METHOD:PUBLISH
X-PUBLISHED-TTL:P3D
REFRESH-INTERVAL:P3D
CALSCALE:GREGORIAN
BEGIN:VEVENT
DTSTART:20260522T010000Z
DTEND:20260522T040000Z
X-MICROSOFT-CDO-ALLDAYEVENT:FALSE
SUMMARY:Brews at the Barn
DESCRIPTION:In partnership with the city of Fife\, join us as they turn Dacca Barn into your favorite brewery in Fife. Brews at the Barn is a free\, 21+ evening event featuring live music from Trevor Ras and a great community vibe. We will be serving beer\, wine and cider available for purchase\, and Dirtyz Burgers Food Truck will be on site with delicious eats. Grab a drink\, relax and enjoy a laid-back night out with friends at one of Fife's favorite venues.
X-ALT-DESC;FMTTYPE=text/html:<span style="font-family:arial\;"><span style="color: rgb(9\, 29\, 49)\; font-size: 15.2px\; background-color: rgb(255\, 255\, 255)\;">In partnership with the city of Fife\, join us as they turn Dacca Barn into your favorite brewery in Fife. Brews at the Barn is a free\, 21+ evening event featuring live music from&nbsp\;</span><a aria-label="Trevor Ras  Opens in new window" href="https://trevorras.com/" rel="noopener" style="box-sizing: border-box\; overflow-wrap: anywhere\; word-break: normal\; color: rgb(17\, 94\, 103)\; font-family: &quot\;Open Sans&quot\;\; font-size: 15.2px\; background-color: rgb(255\, 255\, 255)\;" target="_blank">Trevor Ras&nbsp\;</a><span style="color: rgb(9\, 29\, 49)\; font-size: 15.2px\; background-color: rgb(255\, 255\, 255)\;">and a great community vibe. We will be serving beer\, wine and cider available for purchase\, and&nbsp\;</span><a aria-label="Dirtyz Burgers Opens in new window" href="https://www.dirtyzburgers.com/" rel="noopener" style="box-sizing: border-box\; overflow-wrap: anywhere\; word-break: normal\; color: rgb(17\, 94\, 103)\; font-family: &quot\;Open Sans&quot\;\; font-size: 15.2px\; background-color: rgb(255\, 255\, 255)\;" target="_blank">Dirtyz Burgers</a><span style="color: rgb(9\, 29\, 49)\; font-size: 15.2px\; background-color: rgb(255\, 255\, 255)\;">&nbsp\;Food Truck will be on site with delicious eats. Grab a drink\, relax and enjoy a laid-back night out with friends at one of Fife&rsquo\;s favorite venues.</span></span>
LOCATION:Dacca Barn 2820 54th Ave E\, Fife\, WA 98424
UID:e.1279.4667
SEQUENCE:3
DTSTAMP:20260424T040534Z
URL:https://business.fmechamber.org/events/details/brews-at-the-barn-4667
END:VEVENT

END:VCALENDAR
