BEGIN:VCALENDAR
VERSION:2.0
PRODID:-//ChamberMaster//Event Calendar 2.0//EN
METHOD:PUBLISH
X-PUBLISHED-TTL:P3D
REFRESH-INTERVAL:P3D
CALSCALE:GREGORIAN
BEGIN:VEVENT
DTSTART:20260507T190000Z
DTEND:20260507T193000Z
X-MICROSOFT-CDO-ALLDAYEVENT:FALSE
SUMMARY:FME Chamber Walking Group (May–June)
DESCRIPTION:Join the FME Chamber for a fun and friendly walking group this spring! This is a great opportunity to get moving\, connect with fellow members\, and enjoy the fresh air together.\n\nWalks take place on Thursdays at 12:00 PM throughout May and June and are led by Chamber member Tammy Valenta ("Coach Tammy")\, a Metabolic Health and Fitness Coach who is passionate about helping others feel their best.\n\nAll fitness levels are welcome come as you are and walk at your own pace!
X-ALT-DESC;FMTTYPE=text/html:<div>\n<p data-end="337" data-start="118">Join the FME Chamber for a fun and friendly walking group this spring! This is a great opportunity to get moving\, connect with fellow members\, and enjoy the fresh air together.</p>\n\n<p data-end="558" data-start="339">Walks take place on Thursdays at 12:00 PM throughout May and June and are led by Chamber member Tammy Valenta (&ldquo\;Coach Tammy&rdquo\;)\, a Metabolic Health and Fitness Coach who is passionate about helping others feel their best.</p>\n</div>\nAll fitness levels are welcome&mdash\;come as you are and walk at your own pace!
LOCATION:Locations: 1st & 3rd Thursdays: Edgewood Community Park 2nd & 4th Thursdays: Interurban Trail Fife Trailhead
UID:e.1279.4659
SEQUENCE:3
DTSTAMP:20260423T223334Z
URL:https://business.fmechamber.org/events/details/fme-chamber-walking-group-may-june-4659
END:VEVENT

END:VCALENDAR
