BEGIN:VCALENDAR
VERSION:2.0
PRODID:-//ChamberMaster//Event Calendar 2.0//EN
METHOD:PUBLISH
X-PUBLISHED-TTL:P3D
REFRESH-INTERVAL:P3D
CALSCALE:GREGORIAN
BEGIN:VEVENT
DTSTART:20201020T150000Z
DTEND:20201020T160000Z
X-MICROSOFT-CDO-ALLDAYEVENT:FALSE
SUMMARY:C3 (Chamber Connections Cohort)
DESCRIPTION:Join us each Tuesday for a virtual C3 Session or in-person on the first Tuesday of the month as we continue to support one another during the Covid pandemic. This is an informal meeting\, with the intention of giving our members an opportunity to connect\, support one another\, and keep each other up-to-date on the happenings in our community.\n\nIf you plan to attend in our in-person meeting on the first Tuesday\, please register as physical seats are limited.
X-ALT-DESC;FMTTYPE=text/html:Join us each Tuesday for a virtual C3 Session or in-person on the first Tuesday of the month as we continue to support one another during the Covid pandemic. This is an informal meeting\, with the intention of giving our members an opportunity to connect\, support one another\, and keep each other up-to-date on the happenings in our community.<br />\nIf you plan to attend in our in-person meeting on the first Tuesday\, please register as physical seats are limited.
LOCATION:Edgewood City Hall for in-person or on Zoom https://us02web.zoom.us/j/314489862?pwd=ZlIrL3ZKNkE0U25FdzhYTGJ1SFhqQT09 Call in: One tap mobile +12532158782\,\,314489862# US (Tacoma) Password: 335714
UID:e.1279.3429
SEQUENCE:3
DTSTAMP:20260425T120157Z
URL:https://business.fmechamber.org/events/details/hybrid-c3-chamber-connections-cohort-10-20-2020-3429
END:VEVENT

END:VCALENDAR
