BEGIN:VCALENDAR
VERSION:2.0
PRODID:-//ChamberMaster//Event Calendar 2.0//EN
METHOD:PUBLISH
X-PUBLISHED-TTL:P3D
REFRESH-INTERVAL:P3D
CALSCALE:GREGORIAN
BEGIN:VEVENT
DTSTART:20200324T180000Z
DTEND:20200324T190000Z
X-MICROSOFT-CDO-ALLDAYEVENT:FALSE
SUMMARY:Local Business Resources Update - COVID-19 Assistance
DESCRIPTION:Hello Fife Milton Edgewood Businesses\,\n\n\n\nWe at the Fife Milton Edgewood Chamber of Commerce are very concerned about you and your business. We are working diligently to bring you the most current and relevant information during this very difficult time.\n\n\n\nI invite you to join us for an informative webinar next week with special guests I've invited to answer your questions and share valuable information and resources to help you weather this storm. This meeting is open to ALL FME businesses\, not just Chamber members.\n\n\n\nJoining us will be:\n\nMark Costello - Deputy Director Seattle office of the Small Business Administration\n\nMayor Kim Roscoe - City of Fife\n\nMayor Daryl Eidinger - City of Edgewood\n\nMayor Shanna Styron-Sherrell\n\n\n\nI will also share some of the latest information you need to know for yourself and your employees. Many options for assistance are beginning to take shape\, even for Sole Proprietors\, Independent Contractors and Non-Profits. I hope you will join us!\n\n\n\nBusiness Resources Update\n\nTue\, Mar 24\, 2020 11:00 AM - 12:00 PM (PDT)\n\n\n\nPlease join my meeting from your computer\, tablet or smartphone. \n\nhttps://global.gotomeeting.com/join/653401037 \n\n\n\nYou can also dial in using your phone. \n\nUnited States: +1 (786) 535-3211 \n\n\n\nAccess Code: 653-401-037 \n\n\n\nNew to GoToMeeting? Get the app now and be ready when your first meeting starts:\n\nhttps://global.gotomeeting.com/install/653401037 \n\n\n\nThank you\,\n\n \n\nLora Butterfield\n\nPresident/CEO\n\nFife Milton Edgewood Chamber of Commerce
X-ALT-DESC;FMTTYPE=text/html:Hello Fife Milton Edgewood Businesses\,<br />\n<br />\nWe at the Fife Milton Edgewood Chamber of Commerce are very concerned about you and your business. We are working diligently to bring you the most current and relevant information&nbsp\;during this very difficult time.<br />\n<br />\nI invite you to join us for an informative webinar next week with special guests I&#39\;ve invited to&nbsp\;answer your questions and share valuable information and resources to help you weather&nbsp\;this&nbsp\;storm. This meeting is open to ALL FME businesses\, not just Chamber members.<br />\n<br />\nJoining us will be:<br />\nMark Costello - Deputy Director Seattle office of the Small Business Administration<br />\nMayor Kim Roscoe - City of Fife<br />\nMayor Daryl Eidinger - City of Edgewood<br />\nMayor Shanna Styron-Sherrell<br />\n<br />\nI will also share some of the latest information you need to know for yourself and your employees. Many options for assistance are beginning to take shape\, even for Sole Proprietors\, Independent Contractors and Non-Profits. I hope you will join us!<br />\n<br />\n<span class="inv-subject">Business Resources Update</span><br />\n<span class="inv-date">Tue\, Mar 24\, 2020 11:00 AM - 12:00 PM (PDT)</span><br />\n<br />\n<b>Please join my meeting from your computer\, tablet or smartphone.&nbsp\;</b><br />\n<span class="inv-meeting-url"><a href="https://global.gotomeeting.com/join/653401037" target="_blank">https://global.gotomeeting.com/join/653401037</a>&nbsp\;</span><br />\n<br />\n<b>You can also dial in using your phone.&nbsp\;</b><br />\nUnited States:&nbsp\;<a href="tel:+17865353211\,\,653401037#">+1 (786) 535-3211</a>&nbsp\;<br />\n<br />\n<b>Access Code:</b>&nbsp\;653-401-037&nbsp\;<br />\n<br />\nNew to GoToMeeting? Get the app now and be ready when your first meeting starts:<br />\n<a href="https://global.gotomeeting.com/install/653401037" target="_blank">https://global.gotomeeting.com/install/653401037</a>&nbsp\;<br />\n<br />\nThank you\,<br />\n&#8203\;<br />\nLora Butterfield<br />\nPresident/CEO<br />\nFife Milton Edgewood Chamber of Commerce
LOCATION:Webinar
UID:e.1279.3369
SEQUENCE:3
DTSTAMP:20260420T131738Z
URL:https://business.fmechamber.org/events/details/local-business-resources-update-covid-19-assistance-3369
END:VEVENT

END:VCALENDAR
